BEGIN:VCALENDAR
VERSION:2.0
METHOD:PUBLISH
PRODID:-//Accessible Web Design//My Calendar//http://www.joedolson.com//v//EN';
BEGIN:VEVENT
UID:1-1
LOCATION:Demo: Minnesota Orchestra 1111 Nicollet Mall  Minneapolis MN 55403
SUMMARY:Demo: Florence Price: Symphony No. 3 in c minor
DTSTAMP:20221201T193000
ORGANIZER;CN=fullcircle:MAILTO:contactfullcircledance@gmail.com
DTSTART:20221201T193000
DTEND:20221201T210000
CATEGORIES:General
URL;VALUE=URI:https://www.fullcircledanceutah.com/my-calendar/?cid=my-calendar&#038;mc_id=1&#038;vcal=1
DESCRIPTION:Florence Price's Symphony No.3 was first performed on November 6th, 1940. It was Ms. Price's third symphony, following her lost Symphony No. 2
END:VEVENT
END:VCALENDAR