BEGIN:VCALENDAR
VERSION:2.0
METHOD:PUBLISH
PRODID:-//Accessible Web Design//My Calendar//http://www.joedolson.com//v//EN';
BEGIN:VEVENT
UID:12-12
LOCATION:
SUMMARY:Fall Break–NO CLASSES!
DTSTAMP:20241010
ORGANIZER;CN=fullcircle:MAILTO:contactfullcircledance@gmail.com
DTSTART:20241010
DTEND:20241015
CATEGORIES:General
URL;VALUE=URI:https://www.fullcircledanceutah.com/my-calendar/?cid=my-calendar&#038;mc_id=12&#038;vcal=12
DESCRIPTION:We will be following the majority of Box Elder School District's closures. There will be no classes or rehearsals these days due to fall break.
X-FUNAMBOL-ALLDAY: 1
X-MICROSOFT-CDO-ALLDAYEVENT: TRUE

END:VEVENT
END:VCALENDAR