BEGIN:VCALENDAR
VERSION:2.0
METHOD:PUBLISH
PRODID:-//Accessible Web Design//My Calendar//http://www.joedolson.com//v//EN';
BEGIN:VEVENT
UID:13-13
LOCATION:
SUMMARY:Happy Halloween! NO CLASSES!
DTSTAMP:20241030
ORGANIZER;CN=fullcircle:MAILTO:contactfullcircledance@gmail.com
DTSTART:20241030
DTEND:20241101
CATEGORIES:Ballet
URL;VALUE=URI:https://www.fullcircledanceutah.com/my-calendar/?cid=my-calendar&#038;mc_id=13&#038;vcal=13
DESCRIPTION:
X-FUNAMBOL-ALLDAY: 1
X-MICROSOFT-CDO-ALLDAYEVENT: TRUE

END:VEVENT
END:VCALENDAR