BEGIN:VCALENDAR
VERSION:2.0
METHOD:PUBLISH
PRODID:-//Accessible Web Design//My Calendar//http://www.joedolson.com//v//EN';
BEGIN:VEVENT
UID:15-15
LOCATION:
SUMMARY:Tuition Due
DTSTAMP:20241001T000000
ORGANIZER;CN=fullcircle:MAILTO:contactfullcircledance@gmail.com
DTSTART:20241001T000000
DTEND:20241001T010000
CATEGORIES:General
URL;VALUE=URI:https://www.fullcircledanceutah.com/my-calendar/?cid=my-calendar&#038;mc_id=15&#038;vcal=15
DESCRIPTION:
END:VEVENT
END:VCALENDAR