BEGIN:VCALENDAR
VERSION:2.0
METHOD:PUBLISH
PRODID:-//Accessible Web Design//My Calendar//http://www.joedolson.com//v//EN';
BEGIN:VEVENT
UID:20-19
LOCATION:
SUMMARY:Tuition Due
DTSTAMP:20250101T000000
ORGANIZER;CN=fullcircle:MAILTO:contactfullcircledance@gmail.com
DTSTART:20250101T000000
DTEND:20250101T010000
CATEGORIES:General
URL;VALUE=URI:https://www.fullcircledanceutah.com/my-calendar/?cid=my-calendar&#038;mc_id=20&#038;vcal=20
DESCRIPTION:
END:VEVENT
END:VCALENDAR