BEGIN:VCALENDAR
VERSION:2.0
METHOD:PUBLISH
PRODID:-//Accessible Web Design//My Calendar//http://www.joedolson.com//v//EN';
BEGIN:VEVENT
UID:23-19
LOCATION:
SUMMARY:Tuition Due
DTSTAMP:20250401T000000
ORGANIZER;CN=fullcircle:MAILTO:contactfullcircledance@gmail.com
DTSTART:20250401T000000
DTEND:20250401T010000
CATEGORIES:General
URL;VALUE=URI:https://www.fullcircledanceutah.com/my-calendar/?cid=my-calendar&#038;mc_id=23&#038;vcal=23
DESCRIPTION:
END:VEVENT
END:VCALENDAR