BEGIN:VCALENDAR
VERSION:2.0
METHOD:PUBLISH
PRODID:-//Accessible Web Design//My Calendar//http://www.joedolson.com//v//EN';
BEGIN:VEVENT
UID:24-19
LOCATION:
SUMMARY:Tuition Due
DTSTAMP:20250501T000000
ORGANIZER;CN=fullcircle:MAILTO:contactfullcircledance@gmail.com
DTSTART:20250501T000000
DTEND:20250501T010000
CATEGORIES:General
URL;VALUE=URI:https://www.fullcircledanceutah.com/my-calendar/?cid=my-calendar&#038;mc_id=24&#038;vcal=24
DESCRIPTION:
END:VEVENT
END:VCALENDAR