BEGIN:VCALENDAR
VERSION:2.0
METHOD:PUBLISH
PRODID:-//Accessible Web Design//My Calendar//http://www.joedolson.com//v//EN';
BEGIN:VEVENT
UID:25-20
LOCATION:
SUMMARY:Spring Performance Auditions
DTSTAMP:20241220T160000
ORGANIZER;CN=fullcircle:MAILTO:contactfullcircledance@gmail.com
DTSTART:20241220T160000
DTEND:20241220T173000
CATEGORIES:Ballet
URL;VALUE=URI:https://www.fullcircledanceutah.com/my-calendar/?cid=my-calendar&#038;mc_id=25&#038;vcal=25
DESCRIPTION:Auditions for our spring ballet performance. Supporting role dancers must be 8  Ballet company dancers must be 10  More information to come!
END:VEVENT
END:VCALENDAR