BEGIN:VCALENDAR
VERSION:2.0
METHOD:PUBLISH
PRODID:-//Accessible Web Design//My Calendar//http://www.joedolson.com//v//EN';
BEGIN:VEVENT
UID:32-26
LOCATION:
SUMMARY:Journey to Bethlehem
DTSTAMP:20241213T173000
ORGANIZER;CN=fullcircle:MAILTO:contactfullcircledance@gmail.com
DTSTART:20241213T173000
DTEND:20241213T181500
CATEGORIES:Ballet
URL;VALUE=URI:https://www.fullcircledanceutah.com/my-calendar/?cid=my-calendar&#038;mc_id=32&#038;vcal=32
DESCRIPTION:Come see our Journey to Bethlehem performance put on by our Moving Company Dancers! https://dancestudio-pro.com/tickets/fullcircledance
END:VEVENT
END:VCALENDAR