BEGIN:VCALENDAR
VERSION:2.0
METHOD:PUBLISH
PRODID:-//Accessible Web Design//My Calendar//http://www.joedolson.com//v//EN';
BEGIN:VEVENT
UID:6-6
LOCATION:
SUMMARY:Ballet Auditions
DTSTAMP:20240517T160000
ORGANIZER;CN=fullcircle:MAILTO:contactfullcircledance@gmail.com
DTSTART:20240517T160000
DTEND:20240517T173000
CATEGORIES:Ballet
URL;VALUE=URI:https://www.fullcircledanceutah.com/my-calendar/?cid=my-calendar&#038;mc_id=6&#038;vcal=6
DESCRIPTION:Auditions for anyone interested in joining our Ballet Company or for those that would like an additional supporting role in The Nutcracker. 4:00-5:30 PM For Ballet Company, dancers must be 10 or older For a Supporting Role, dancers must be 8 or older Dress Code: Black leotard, pink tights, ballet shoes (pointe or flat), hair&hellip;
END:VEVENT
END:VCALENDAR