BEGIN:VCALENDAR
VERSION:2.0
METHOD:PUBLISH
PRODID:-//Accessible Web Design//My Calendar//http://www.joedolson.com//v//EN';
BEGIN:VEVENT
UID:10-10
LOCATION:
SUMMARY:First day of classes
DTSTAMP:20240903T160000
ORGANIZER;CN=fullcircle:MAILTO:contactfullcircledance@gmail.com
DTSTART:20240903T160000
DTEND:20240903T203000
CATEGORIES:General
URL;VALUE=URI:https://www.fullcircledanceutah.com/my-calendar/?mc_id=10&#038;vcal=10
DESCRIPTION:
END:VEVENT
END:VCALENDAR