BEGIN:VCALENDAR
VERSION:2.0
METHOD:PUBLISH
PRODID:-//Accessible Web Design//My Calendar//http://www.joedolson.com//v//EN';
BEGIN:VEVENT
UID:11-11
LOCATION:
SUMMARY:Nutcracker Rehearsals Begin!
DTSTAMP:20240905T173000
ORGANIZER;CN=fullcircle:MAILTO:contactfullcircledance@gmail.com
DTSTART:20240905T173000
DTEND:20240905T203000
CATEGORIES:Ballet
URL;VALUE=URI:https://www.fullcircledanceutah.com/my-calendar/?mc_id=11&#038;vcal=11
DESCRIPTION:Extra rehearsals for those that auditioned for additional roles. The schedule has been emailed out, so please refer to that so you know when your dancer needs to be here!
END:VEVENT
END:VCALENDAR