BEGIN:VCALENDAR
VERSION:2.0
METHOD:PUBLISH
PRODID:-//Accessible Web Design//My Calendar//http://www.joedolson.com//v//EN';
BEGIN:VEVENT
UID:16-16
LOCATION:
SUMMARY:Tuition Due
DTSTAMP:20241101T000000
ORGANIZER;CN=fullcircle:MAILTO:contactfullcircledance@gmail.com
DTSTART:20241101T000000
DTEND:20241101T010000
CATEGORIES:Ballet
URL;VALUE=URI:https://www.fullcircledanceutah.com/my-calendar/?mc_id=16&#038;vcal=16
DESCRIPTION:
END:VEVENT
END:VCALENDAR