BEGIN:VCALENDAR
VERSION:2.0
METHOD:PUBLISH
PRODID:-//Accessible Web Design//My Calendar//http://www.joedolson.com//v//EN';
BEGIN:VEVENT
UID:28-23
LOCATION:
SUMMARY:Martin Luther King Jr. Day–NO CLASSES!
DTSTAMP:20250120T000000
ORGANIZER;CN=fullcircle:MAILTO:contactfullcircledance@gmail.com
DTSTART:20250120T000000
DTEND:20250120T010000
CATEGORIES:General
URL;VALUE=URI:https://www.fullcircledanceutah.com/my-calendar/?mc_id=28&#038;vcal=28
DESCRIPTION:
END:VEVENT
END:VCALENDAR