BEGIN:VCALENDAR
VERSION:2.0
METHOD:PUBLISH
PRODID:-//Accessible Web Design//My Calendar//http://www.joedolson.com//v//EN';
BEGIN:VEVENT
UID:34-28
LOCATION:
SUMMARY:The Nutcracker
DTSTAMP:20241213T190000
ORGANIZER;CN=fullcircle:MAILTO:contactfullcircledance@gmail.com
DTSTART:20241213T190000
DTEND:20241213T203000
CATEGORIES:Ballet
URL;VALUE=URI:https://www.fullcircledanceutah.com/my-calendar/?mc_id=34&#038;vcal=34
DESCRIPTION:Come see our Nutcracker performance put on by our ballet dancers! https://dancestudio-pro.com/tickets/fullcircledance
END:VEVENT
END:VCALENDAR