BEGIN:VCALENDAR
VERSION:2.0
METHOD:PUBLISH
PRODID:-//Accessible Web Design//My Calendar//http://www.joedolson.com//v//EN';
BEGIN:VEVENT
UID:5-5
LOCATION:
SUMMARY:Moving Company Auditions
DTSTAMP:20240520T170000
ORGANIZER;CN=fullcircle:MAILTO:contactfullcircledance@gmail.com
DTSTART:20240520T170000
DTEND:20240520T190000
CATEGORIES:Company
URL;VALUE=URI:https://www.fullcircledanceutah.com/my-calendar/?mc_id=5&#038;vcal=5
DESCRIPTION:Auditions for anyone interested in joining our Moving Company! Ages 6-8: 5:00-6:00 PM Ages 9 : 5:00-7:00 PM Dress Code: All black clothing, bare feet &nbsp; &nbsp;
END:VEVENT
END:VCALENDAR