BEGIN:VCALENDAR
VERSION:2.0
METHOD:PUBLISH
PRODID:-//Accessible Web Design//My Calendar//http://www.joedolson.com//v//EN';
BEGIN:VEVENT
UID:7-7
LOCATION:
SUMMARY:Last Day of Classes!
DTSTAMP:20240523
ORGANIZER;CN=fullcircle:MAILTO:contactfullcircledance@gmail.com
DTSTART:20240523
DTEND:20240525
CATEGORIES:Ballet
URL;VALUE=URI:https://www.fullcircledanceutah.com/my-calendar/?mc_id=7&#038;vcal=7
DESCRIPTION:
X-FUNAMBOL-ALLDAY: 1
X-MICROSOFT-CDO-ALLDAYEVENT: TRUE

END:VEVENT
END:VCALENDAR