BEGIN:VCALENDAR
VERSION:2.0
METHOD:PUBLISH
PRODID:-//Accessible Web Design//My Calendar//http://www.joedolson.com//v//EN';
BEGIN:VEVENT
UID:8-8
LOCATION:
SUMMARY:Full Circle Pool Party
DTSTAMP:20240624T203000
ORGANIZER;CN=fullcircle:MAILTO:contactfullcircledance@gmail.com
DTSTART:20240624T203000
DTEND:20240624T220000
CATEGORIES:Ballet
URL;VALUE=URI:https://www.fullcircledanceutah.com/my-calendar/?mc_id=8&#038;vcal=8
DESCRIPTION:
END:VEVENT
END:VCALENDAR