BEGIN:VCALENDAR
VERSION:2.0
METHOD:PUBLISH
PRODID:-//Accessible Web Design//My Calendar//http://www.joedolson.com//v//EN';
BEGIN:VEVENT
UID:9-9
LOCATION:
SUMMARY:Choreography Camps
DTSTAMP:20240826
ORGANIZER;CN=fullcircle:MAILTO:contactfullcircledance@gmail.com
DTSTART:20240826
DTEND:20240830
CATEGORIES:General
URL;VALUE=URI:https://www.fullcircledanceutah.com/my-calendar/?mc_id=9&#038;vcal=9
DESCRIPTION:Choreography camps for Graham, Cunningham, Copeland, Mikhail, and Ailey companies. (Each company should check for their specific schedule.)
X-FUNAMBOL-ALLDAY: 1
X-MICROSOFT-CDO-ALLDAYEVENT: TRUE

END:VEVENT
END:VCALENDAR